BEGIN:VCALENDAR
VERSION:2.0
PRODID:-//ChamberMaster//Event Calendar 2.0//EN
METHOD:PUBLISH
X-PUBLISHED-TTL:P3D
REFRESH-INTERVAL:P3D
CALSCALE:GREGORIAN
BEGIN:VEVENT
DTSTART:20230120T180000Z
DTEND:20230120T190000Z
X-MICROSOFT-CDO-ALLDAYEVENT:FALSE
SUMMARY:Ribbon Cutting: Routine Clean
DESCRIPTION:LET'S CELEBRATE! \n\nCome join us to help celebrate the Ribbon Cutting for Routine Clean in the FWC's South Area!  This is a great event to make new connections\, network and of course\, congratulate the company on this special occasion.\nADDITIONAL:\n\n\n	Appetizers\, and non-alcoholic beverages will be served
X-ALT-DESC;FMTTYPE=text/html:<h1><strong><span style="color: rgb(255\, 0\, 0)\;">LET&#39\;S CELEBRATE!</span></strong><span style="font-size: 16px\;"><strong> </strong></span></h1>\n\n<p>Come join us to help celebrate the Ribbon Cutting for&nbsp\;<b>Routine Clean</b>&nbsp\;in the FWC&#39\;s South&nbsp\;Area!&nbsp\; This is a great event to make new connections\, network and of course\, congratulate the company&nbsp\;on this&nbsp\;special occasion.</p>\n<strong>ADDITIONAL:</strong>\n\n<ul>\n	<li>Appetizers\, and non-alcoholic&nbsp\;beverages will be served</li>\n</ul>\n
LOCATION:TCU Neeley School of Business 2nd Floor Banquet Room 2303 Visitor parking on the Northwest corner of W. Lowden St. & Lubbock Ave. https://maps.tcu.edu/
UID:e.1802.17181
SEQUENCE:3
DTSTAMP:20260424T003539Z
URL:https://business.fortworthchamber.com/events/details/ribbon-cutting-routine-clean-17181
END:VEVENT

END:VCALENDAR
