BEGIN:VCALENDAR
VERSION:2.0
PRODID:-//ChamberMaster//Event Calendar 2.0//EN
METHOD:PUBLISH
X-PUBLISHED-TTL:P3D
REFRESH-INTERVAL:P3D
CALSCALE:GREGORIAN
BEGIN:VEVENT
DTSTART:20221110T160000Z
DTEND:20221110T170000Z
X-MICROSOFT-CDO-ALLDAYEVENT:FALSE
SUMMARY:Ribbon Cutting: Sherwin Williams Paint
DESCRIPTION:LET'S CELEBRATE!\n\n \n\nCome join us to help celebrate the Ribbon Cutting for Sherwin Williams Paint in the FWC's West  Area!  This is a great event to make new connections\, network and of course\, congratulate the company on this special occasion.\nADDITIONAL:\n\n\n	Appetizers\, Snacks\, and non-alcoholic beverages will be served\n	Giveaway
X-ALT-DESC;FMTTYPE=text/html:<p>&nbsp\;</p>\n\n<h1><strong><span style="color:#FF0000\;">LET&#39\;S CELEBRATE!</span></strong></h1>\n\n<h1><span style="font-size:16px\;"><strong>&nbsp\;</strong></span></h1>\n\n<p>Come join us to help celebrate the Ribbon Cutting for <b>Sherwin Williams Paint</b>&nbsp\;in the FWC&#39\;s West&nbsp\;&nbsp\;Area!&nbsp\; This is a great event to make new connections\, network and of course\, congratulate the company&nbsp\;on this&nbsp\;special occasion.</p>\n<strong>ADDITIONAL:</strong>\n\n<ul>\n	<li>Appetizers\, Snacks\, and non-alcoholic&nbsp\;beverages will be served</li>\n	<li>Giveaway</li>\n</ul>\n
LOCATION:
UID:e.1802.16647
SEQUENCE:3
DTSTAMP:20260424T030151Z
URL:https://business.fortworthchamber.com/events/details/ribbon-cutting-sherwin-williams-paint-16647
END:VEVENT

END:VCALENDAR
