BEGIN:VCALENDAR
VERSION:2.0
PRODID:-//ChamberMaster//Event Calendar 2.0//EN
METHOD:PUBLISH
X-PUBLISHED-TTL:P3D
REFRESH-INTERVAL:P3D
CALSCALE:GREGORIAN
BEGIN:VEVENT
DTSTART:20230424T160000Z
DTEND:20230424T170000Z
X-MICROSOFT-CDO-ALLDAYEVENT:FALSE
SUMMARY:Ribbon Cutting: Soulman's Bar-B-Que
DESCRIPTION:LET'S CELEBRATE!\n\n \n\nCome join us in celebrating the Ribbon Cutting for Soulman's Bar-B-Que! This is a great event to make new connections\, network and of course\, congratulate the company on this special occasion.\nADDITIONAL:\n\n\n	Non- alcoholic beverages will be served
X-ALT-DESC;FMTTYPE=text/html:<p>&nbsp\;</p>\n\n<h1><strong><span style="color:#FF0000\;">LET&#39\;S CELEBRATE!</span></strong></h1>\n\n<h1><span style="font-size:16px\;"><strong>&nbsp\;</strong></span></h1>\n\n<p>Come join us in celebrating the Ribbon Cutting&nbsp\;for <strong>Soulman&#39\;s Bar-B-Que</strong>!&nbsp\;This is a great event to make new connections\, network and of course\, congratulate the company&nbsp\;on this&nbsp\;special occasion.</p>\n<strong>ADDITIONAL:</strong>\n\n<ul>\n	<li>Non- alcoholic beverages will be served</li>\n</ul>\n
LOCATION:Parking available in restaurant's lot
UID:e.1802.17528
SEQUENCE:3
DTSTAMP:20260423T205224Z
URL:https://business.fortworthchamber.com/events/details/ribbon-cutting-soulman-s-bar-b-que-17528
END:VEVENT

END:VCALENDAR
