BEGIN:VCALENDAR
VERSION:2.0
PRODID:-//ChamberMaster//Event Calendar 2.0//EN
METHOD:PUBLISH
X-PUBLISHED-TTL:P3D
REFRESH-INTERVAL:P3D
CALSCALE:GREGORIAN
BEGIN:VEVENT
DTSTART:20230517T163000Z
DTEND:20230517T180000Z
X-MICROSOFT-CDO-ALLDAYEVENT:FALSE
SUMMARY:Ribbon Cutting: Universal Recycling Technologies
DESCRIPTION:LET'S CELEBRATE!\n\n \n\nCome join us in celebrating the Grand Re-opening for Universal Recycling Technologies! This is a great event to make new connections\, network and of course\, congratulate the company on this special occasion.\nADDITIONAL:\n\n\n	Snacks and non-alcoholic beverages\n	Tours
X-ALT-DESC;FMTTYPE=text/html:<p>&nbsp\;</p>\n\n<h1><strong><span style="color:#FF0000\;">LET&#39\;S CELEBRATE!</span></strong></h1>\n\n<h1><span style="font-size:16px\;"><strong>&nbsp\;</strong></span></h1>\n\n<p>Come join us in celebrating the Grand Re-opening for <b>Universal Recycling Technologies</b>!&nbsp\;This is a great event to make new connections\, network and of course\, congratulate the company&nbsp\;on this&nbsp\;special occasion.</p>\n<strong>ADDITIONAL:</strong>\n\n<ul>\n	<li>Snacks and non-alcoholic beverages</li>\n	<li>Tours</li>\n</ul>\n
LOCATION:Open parking at the facility
UID:e.1802.17380
SEQUENCE:3
DTSTAMP:20260423T191859Z
URL:https://business.fortworthchamber.com/events/details/ribbon-cutting-universal-recycling-technologies-17380
END:VEVENT

END:VCALENDAR
