BEGIN:VCALENDAR
VERSION:2.0
PRODID:-//ChamberMaster//Event Calendar 2.0//EN
METHOD:PUBLISH
X-PUBLISHED-TTL:P3D
REFRESH-INTERVAL:P3D
CALSCALE:GREGORIAN
BEGIN:VEVENT
DTSTART:20240308T180000Z
DTEND:20240308T190000Z
X-MICROSOFT-CDO-ALLDAYEVENT:FALSE
SUMMARY:Ribbon Cutting: Where the Heart is Designs
DESCRIPTION:LET'S CELEBRATE! \n\nCome join us in celebrating the Ribbon Cutting for the Where the Heart is Designs! This is a great event to make new connections\, network and of course\, congratulate the company on this special occasion.\nADDITIONAL:\n\n\n	Snacks\, appetizers\, alcoholic and non- alcoholic beverages will be available
X-ALT-DESC;FMTTYPE=text/html:<div>&nbsp\;</div>\n\n<h1><strong><span style="color: rgb(255\, 0\, 0)\;">LET&#39\;S CELEBRATE!</span></strong><span style="font-size: 16px\;"><strong>&nbsp\;</strong></span></h1>\n\n<p>Come join us in celebrating the Ribbon Cutting&nbsp\;for the&nbsp\;<strong>Where the Heart is Designs!</strong>&nbsp\;This is a great event to make new connections\, network and of course\, congratulate the company&nbsp\;on this&nbsp\;special occasion.</p>\n<strong>ADDITIONAL:</strong>\n\n<ul>\n	<li>Snacks\, appetizers\, alcoholic&nbsp\;and non- alcoholic beverages&nbsp\;will be available</li>\n</ul>\n
LOCATION:Parking is available in the main parking lot facing Bonnie Dr. Additional parking available in the back of the building.
UID:e.1802.18933
SEQUENCE:3
DTSTAMP:20260423T053547Z
URL:https://business.fortworthchamber.com/events/details/ribbon-cutting-where-the-heart-is-designs-18933
END:VEVENT

END:VCALENDAR
