BEGIN:VCALENDAR
VERSION:2.0
PRODID:-//ChamberMaster//Event Calendar 2.0//EN
METHOD:PUBLISH
X-PUBLISHED-TTL:P3D
REFRESH-INTERVAL:P3D
CALSCALE:GREGORIAN
BEGIN:VEVENT
DTSTART;VALUE=DATE:20220405
DTEND;VALUE=DATE:20220417
TRANSP:TRANSPARENT
X-MICROSOFT-CDO-ALLDAYEVENT:TRUE
SUMMARY:The Music of Laurel Canyon - Casa Mañana - Reid Cabaret
DESCRIPTION:One of the most sacred musical places in the 60s and early 70s sits just above the Sunset Strip. Laurel Canyon became a nest of creativity\, immortalizing artists like Joni Mitchell\, Buffalo Springfield\, Crosby\, Stills\, Nash\, & Young and The Mamas and the Papas\, who called the neighborhood home. Don't miss the chance to hear songs of the era performed by the stunning harmonies of Buffalo Rome in the intimate Reid Cabaret. Nicknamed the Crosby\, Stills\, and Nashville of the digital age\, Buffalo Rome has appeared with such diverse artists as Kenny Loggins\, Little Big Town\, Montgomery Gentry and the Shanghai Symphony Orchestra. This show is suitable for most audiences.
X-ALT-DESC;FMTTYPE=text/html:<span style="color:rgb(45\, 45\, 45)\; font-family:open sans\,helvetica neue\,helvetica\,arial\,sans-serif\; font-size:16px">One of the most sacred musical places in the 60s and early 70s sits just above the Sunset Strip. Laurel Canyon became a nest of creativity\, immortalizing artists like Joni Mitchell\, Buffalo Springfield\, Crosby\, Stills\, Nash\, &amp\; Young and The Mamas and the Papas\, who called the neighborhood home. Don&rsquo\;t miss the chance to hear songs of the era performed by the stunning harmonies of Buffalo Rome in the intimate Reid Cabaret. Nicknamed the Crosby\, Stills\, and Nashville of the digital age\, Buffalo Rome has appeared with such diverse artists as Kenny Loggins\, Little Big Town\, Montgomery Gentry and the Shanghai Symphony Orchestra.&nbsp\;</span><strong>This show is suitable for most audiences.</strong>
LOCATION:Casa Ma ana - Reid Cabarat 3101 W. Lancaster Fort\, Worth\, Texas 76107
UID:e.1802.16115
SEQUENCE:3
DTSTAMP:20260424T154136Z
URL:https://business.fortworthchamber.com/events/details/the-music-of-laurel-canyon-casa-ma&#241;ana-reid-cabaret-16115
END:VEVENT

END:VCALENDAR
