BEGIN:VCALENDAR
VERSION:2.0
PRODID:-//ChamberMaster//Event Calendar 2.0//EN
METHOD:PUBLISH
X-PUBLISHED-TTL:P3D
REFRESH-INTERVAL:P3D
CALSCALE:GREGORIAN
BEGIN:VEVENT
DTSTART:20250503T003000Z
DTEND:20250503T023000Z
X-MICROSOFT-CDO-ALLDAYEVENT:FALSE
SUMMARY:UNT One O’Clock Lab Band Spring Showcase
DESCRIPTION:Seven Grammy  nominations! Multitudes of great composers\, performers\, and educators all throughout the music world. Over 60 recordings and a tradition that just keeps swingin'...The One O'Clock Lab Band returns to McDavid Studio for their spring showcase to close out the 2024-2025 Irwin Steel Popular Entertainment Series.
X-ALT-DESC;FMTTYPE=text/html:<span style="color:rgb(0\, 0\, 0)\; font-family:aptos\,sans-serif\; font-size:11pt">Seven Grammy&reg\; nominations! Multitudes of great composers\, performers\, and educators all throughout the music world. Over 60 recordings and a tradition that just keeps swingin&#39\;...The One O&rsquo\;Clock Lab Band returns to McDavid Studio for their spring showcase to close out the 2024-2025 Irwin Steel Popular Entertainment Series.</span>
LOCATION:McDavid Studio 301 E. 5th Street Fort Worth\, TX 76102
UID:e.1802.19956
SEQUENCE:3
DTSTAMP:20260421T082639Z
URL:https://business.fortworthchamber.com/events/details/unt-one-o-clock-lab-band-spring-showcase-19956
END:VEVENT

END:VCALENDAR
