BEGIN:VCALENDAR
VERSION:2.0
PRODID:-//ChamberMaster//Event Calendar 2.0//EN
METHOD:PUBLISH
X-PUBLISHED-TTL:P3D
REFRESH-INTERVAL:P3D
CALSCALE:GREGORIAN
BEGIN:VEVENT
DTSTART:20220428T180000Z
DTEND:20220428T190000Z
X-MICROSOFT-CDO-ALLDAYEVENT:FALSE
SUMMARY:UTA Executive MBA Coach Series: “Taking Control of Your Career” with Krystal Yates
DESCRIPTION:Krystal Yates\, SPHR\, SHRM-SCP\n\nOwner at EBR HR Experts and UTA Executive MBA Business Coach\n\n\n\nIn addition to being a UTA Executive MBA Business Coach\, Krystal Yates\, SPHR\, SHRM-SCP is Owner at EBR HR Experts and is a Small Business HR Expert\, Professional Resume Writer & Career Coach.\n\n\n\nEBR is a premier HR expert for small businesses and job seekers. From resumes to interviews\, EBR helps job seekers find the next step in their career. EBR also assists organizations in talent acquisition\, on-boarding and retaining great talent.\n\n\nTHURSDAY\, APRIL 28TH\n\n1PM to 2PM\n\nVIA ZOOM\n\n\nWEBINAR DETAILS:\n\n\nMost of us don't actively manage our careers until a change is forced on us.  How do you stay relevant and on top of your expertise?  \n\n\n\nThis workshop will help you decide what your path your career should take and how to be most successful along the way.\n\n\n\nBECOMING A BETTER COMMUNICATOR\n\n  Are those around you supporting your growth?\n\n  Translating transferrable experience\n\n  Learning new skills\n\n\n\nMARKETING YOURSELF CONSISTENTLY AND EFFECTIVELY\n\n  LinkedIn Elevator Pitch\n\n  Choosing the best professional organizations to associate with\n\n\n\nTIPS ON SALARY NEGOTIATION\n\n  Annual Increases\n\n  Joining a new organization
X-ALT-DESC;FMTTYPE=text/html:<div style="margin-left:0px\; margin-right:0px">\n<h3><strong>Krystal Yates\,&nbsp\;SPHR\, SHRM-SCP</strong><br />\nOwner at EBR HR Experts and UTA Executive MBA Business Coach</h3>\n</div>\n\n<div style="margin-left:0px\; margin-right:0px">\n<p>In addition to being a UTA Executive MBA Business Coach\, Krystal Yates\, SPHR\, SHRM-SCP is Owner at EBR HR Experts and is a Small Business HR Expert\, Professional Resume Writer &amp\; Career Coach.<br />\n<br />\nEBR is a premier HR expert for small businesses and job seekers. From resumes to interviews\, EBR helps job seekers find the next step in their career. EBR also assists organizations in talent acquisition\, on-boarding and retaining great talent.</p>\n</div>\n\n<p><strong><span style="color:rgb(255\, 105\, 0)">THURSDAY\, APRIL 28TH<br />\n1PM to 2PM<br />\n<em>VIA ZOOM</em></span></strong></p>\n\n<div style="margin-left:0px\; margin-right:0px">\n<h2>WEBINAR DETAILS:</h2>\n</div>\n\n<p><strong>Most of us don&rsquo\;t actively manage our careers until a change is forced on us.&nbsp\; How do you stay relevant and on top of your expertise?&nbsp\;&nbsp\;</strong><br />\n<br />\nThis workshop will help you decide what your path your career should take and how to be most successful along the way.<br />\n<br />\n<strong>BECOMING A BETTER COMMUNICATOR</strong><br />\n&ndash\; Are those around you supporting your growth?<br />\n&ndash\; Translating transferrable experience<br />\n&ndash\; Learning new skills<br />\n<br />\n<strong>MARKETING YOURSELF CONSISTENTLY AND EFFECTIVELY</strong><br />\n&ndash\; LinkedIn Elevator Pitch<br />\n&ndash\; Choosing the best professional organizations to associate with<br />\n<br />\n<strong>TIPS ON SALARY NEGOTIATION</strong><br />\n&ndash\; Annual Increases<br />\n&ndash\; Joining a new organization</p>\n
LOCATION:Virtual on Zoom
UID:e.1802.16146
SEQUENCE:3
DTSTAMP:20260424T154059Z
URL:https://business.fortworthchamber.com/events/details/uta-executive-mba-coach-series-taking-control-of-your-career-with-krystal-yates-16146
END:VEVENT

END:VCALENDAR
