BEGIN:VCALENDAR
VERSION:2.0
PRODID:-//ChamberMaster//Event Calendar 2.0//EN
METHOD:PUBLISH
X-PUBLISHED-TTL:P3D
REFRESH-INTERVAL:P3D
CALSCALE:GREGORIAN
BEGIN:VEVENT
DTSTART:20220324T180000Z
DTEND:20220324T190000Z
X-MICROSOFT-CDO-ALLDAYEVENT:FALSE
SUMMARY:UTA Executive MBA – “Mastering Executive Presence and Best Practices to Business Etiquette” with Lynn Teel
DESCRIPTION:Executive presence is hard to define but easy to spot.  This presentation will help you gain access to new opportunities\, take command of a room\, and present yourself with confidence and credibility.\n\n\n\nLynn Teel is owner of LT Etiquette and a UTA Executive MBA Business Coach. She is a proven Etiquette & Protocol Consultant with extensive experience in life skills training\, business relationship development and providing transformational solutions.
X-ALT-DESC;FMTTYPE=text/html:<span style="color:rgb(17\, 17\, 17)\; font-family:open sans\,arial\,helvetica\,sans-serif\; font-size:18px">Executive presence is hard to define but easy to spot.&nbsp\; This presentation will help you gain access to new opportunities\, take command of a room\, and present yourself with confidence and credibility.</span><br />\n<br />\n<span style="color:rgb(17\, 17\, 17)\; font-family:open sans\,arial\,helvetica\,sans-serif\; font-size:18px">Lynn Teel is owner of LT Etiquette and a UTA Executive MBA Business Coach. She is a proven Etiquette &amp\; Protocol Consultant with extensive experience in life skills training\, business relationship development and providing transformational solutions.</span>
LOCATION:Zoom
UID:e.1802.16098
SEQUENCE:3
DTSTAMP:20260424T171444Z
URL:https://business.fortworthchamber.com/events/details/uta-executive-mba-mastering-executive-presence-and-best-practices-to-business-etiquette-with-lynn-teel-16098
END:VEVENT

END:VCALENDAR
