BEGIN:VCALENDAR
VERSION:2.0
PRODID:-//ChamberMaster//Event Calendar 2.0//EN
METHOD:PUBLISH
X-PUBLISHED-TTL:P3D
REFRESH-INTERVAL:P3D
CALSCALE:GREGORIAN
BEGIN:VEVENT
DTSTART:20230729T233000Z
DTEND:20230730T040000Z
X-MICROSOFT-CDO-ALLDAYEVENT:FALSE
SUMMARY:ZZ Top & Lynyrd Skynyrd
DESCRIPTION:The Titans of American classic rock ZZ Top and Lynyrd Skynyrd announced their first co-headling tour   The Sharp Dressed Simple Man Tour   hitting twenty-two cities in North America this summer including Fort Worth!  The Tour will make it's stop to Dickies Arena on Saturday\, July 29\, 2023 with special guest\, Uncle Kracker.\n\nPurchase tickets before the public on Thursday\, December 15th from 10 am   10 pm only with code word: DICKIES at Ticketmaster.com.  Tickets go on sale to the public on Friday\, December 16th via Ticketmaster.com.
X-ALT-DESC;FMTTYPE=text/html:<div>\n<p>The Titans of American classic rock <strong>ZZ</strong><strong> Top and Lynyrd Skynyrd</strong> announced their first co-headling tour &ndash\; <strong>The Sharp Dressed Simple Man Tour</strong> &ndash\; hitting twenty-two cities in North America this summer including Fort Worth!&nbsp\; The Tour will make it&rsquo\;s stop to Dickies Arena on <strong>Saturday\, July 29\, 2023</strong> with special guest\, Uncle Kracker.</p>\n\n<p>Purchase tickets before the public on Thursday\, December 15th from 10 am &ndash\; 10 pm only with code word: DICKIES at Ticketmaster.com.&nbsp\; Tickets go on sale to the public on Friday\, December 16th via Ticketmaster.com.</p>\n</div>\n
LOCATION:
UID:e.1802.17186
SEQUENCE:3
DTSTAMP:20260423T205010Z
URL:https://business.fortworthchamber.com/events/details/zz-top-lynyrd-skynyrd-17186
END:VEVENT

END:VCALENDAR
